Workbook
Name bg: [1]Bảng!$B$3:$E$22

Sheet foxz

Sheet ĐỊNH MỨC HT
A3: Cây trồng/vật nuôi | B3: Mã | C3: Giai đoạn | D3: >=30 | E3: >70
A4: Lúa | B4: LU1 | C4: Sau gieo trồng từ 01 đến 10 ngày (kđ/ha) | D4: 3000 | E4: 6000
A5: Lúa | B5: LU2 | C5: Sau gieo trồng từ trên 10 ngày đến 45 ngày(kđ/ha) | D5: 4000 | E5: 8000
A6: Lúa | B6: LU3 | C6: Sau gieo trồng trên 45 ngày (kđ/ha) | D6: 5000 | E6: 10000
A7: Cây hàng năm | B7: HN1 | C7: Giai đoạn cây con (gieo trồng đến 1/3 thời gian sinh trưởng) (kđ/ha) | D7: 3000 | E7: 6000
A8: Cây hàng năm | B8: HN2 | C8: Giai đoạn cây đang phát triển (trên 1/3 đến 2/3 thời gian sinh trưởng) (kđ/ha) | D8: 5000 | E8: 10000
A9: Cây hàng năm | B9: HN3 | C9: Giai đoạn cận thu hoạch (trên 2/3 thời gian sinh trưởng) (kđ/ha) | D9: 7500 | E9: 15000
A10: Cây lâu năm | B10: LN1 | C10: Vườn cây ở thời kỳ kiến thiết cơ bản (kđ/ha) | D10: 6000 | E10: 12000
A11: Cây lâu năm | B11: LN2 | C11: Vườn cây ở thời kỳ kinh doanh thiệt hại đến năng suất thu hoạch nhưng cây không chết (kđ/ha) | D11: 10000 | E11: 20000
A12: Cây lâu năm | B12: LN3 | C12: Vườn cây ở thời kỳ kinh doanh thiệt hại làm cây chết hoặc được đánh giá là cây không còn khả năng phục hồi trở lại trạng thái bình thường (kđ/ha) | D12: 15000 | E12: 30000
A13: Thủy sản | B13: TS1 | C13: Nuôi trồng thuỷ sản bán thâm canh, thâm canh trong ao (đầm/hầm): hỗ trợ 60.000.000 đồng/ha diện tích nuôi bị thiệt hại (kđ/ha) | D13: 60000 | E13: 60000
A14: Thủy sản | B14: TS2 | C14: Nuôi trồng thuỷ sản trong bể, lồng, bè (tri/100m3) (đ/m3) | D14: 300 | E14: 300
A15: Thủy sản | B15: TS3 | C15: Nuôi trồng thuỷ sản theo hình thức khác (kđ/ha) | D15: 15000 | E15: 15000
... A22: Trâu, bò | B22: TB2 | C22: Trên 06 tháng tuổi (kđ/con) | D22: 5050 | E22: 5050

Sheet TH CHUNG

Sheet TH
A1: TỔNG HỢP KẾT QUẢ HỖ TRỢ THIỆT HẠI DO BÃO SỐ 13 VÀ MƯA LŨ NĂM 2025 XÃ EA LY
A2: ĐỢT 1
A3: (Kèm theo quyết định số /QĐ-UBND, ngày /6/2026 của UBND xã Ea Ly)
A5: Stt | B5: Tên thôn, buôn | C5: Cây trồng | E5: Thủy sản | G5: Vật nuôi | I5: Tổng cộng | K5: Ghi chú
C6: Số hộ | D6: Số tiền | E6: Số hộ | F6: Số tiền | G6: Số hộ | H6: Số tiền | I6: Số hộ | J6: Số tiền
A7: 1 | B7: Thôn Tân Lập | C7: ='CÂY TRỒNG'!#REF! -> #REF! | D7: ='CÂY TRỒNG'!#REF! -> #REF! | E7: 0 | F7: 0 | G7: 0 | H7: 0 | I7: =C7+E7+G7 -> #REF! | J7: =D7+F7+H7 -> #REF!
A8: 2 | B8: Tân Bình | C8: ='CÂY TRỒNG'!A40-'CÂY TRỒNG'!A6+1 -> 0 | D8: ='CÂY TRỒNG'!K6 -> 0 | E8: 0 | F8: 0 | G8: 0 | H8: 0 | I8: =C8+E8+G8 -> 0 | J8: =D8+F8+H8 -> 0
A9: 3 | B9: Tân Sơn | C9: ='CÂY TRỒNG'!#REF!-'CÂY TRỒNG'!A41+1 -> #REF! | D9: ='CÂY TRỒNG'!K41 -> 0 | E9: 5 | F9: =SUM('THỦY SẢN'!J6:J9) -> 0 | G9: 0 | H9: 0 | I9: =C9+E9+G9 -> #REF! | J9: =D9+F9+H9 -> 0
A10: 4 | B10: Thôn 2/4 | C10: ='CÂY TRỒNG'!#REF!-'CÂY TRỒNG'!#REF!+1 -> #REF! | D10: ='CÂY TRỒNG'!#REF! -> #REF! | E10: 1 | F10: ='THỦY SẢN'!J10 -> 0 | G10: 0 | H10: 0 | I10: =C10+E10+G10 -> #REF! | J10: =D10+F10+H10 -> #REF!
A11: 5 | B11: Buôn Zô | C11: ='CÂY TRỒNG'!#REF!-'CÂY TRỒNG'!#REF!+1 -> #REF! | D11: ='CÂY TRỒNG'!#REF! -> #REF! | E11: 0 | F11: 0 | G11: 1 | H11: ='VẬT NUÔI'!J6 -> 0 | I11: =C11+E11+G11 -> #REF! | J11: =D11+F11+H11 -> #REF!
A12: 6 | B12: Thôn Tân An | C12: ='CÂY TRỒNG'!#REF!-'CÂY TRỒNG'!#REF!+1 -> #REF! | D12: ='CÂY TRỒNG'!#REF! -> #REF! | E12: 0 | F12: 0 | G12: 2 | H12: ='VẬT NUÔI'!J7+'VẬT NUÔI'!J8 -> 0 | I12: =C12+E12+G12 -> #REF! | J12: =D12+F12+H12 -> #REF!
A13: 7 | B13: Buôn Bai | C13: ='CÂY TRỒNG'!#REF!-'CÂY TRỒNG'!#REF!+1 -> #REF! | D13: ='CÂY TRỒNG'!#REF! -> #REF! | E13: 0 | F13: 0 | G13: =23-4+1 -> 20 | H13: =SUM('VẬT NUÔI'!J9:J33) -> 0 | I13: =C13+E13+G13 -> #REF! | J13: =D13+F13+H13 -> #REF!
A14: 8 | B14: Buôn Bưng A | C14: ='CÂY TRỒNG'!#REF!-'CÂY TRỒNG'!#REF!+1 -> #REF! | D14: ='CÂY TRỒNG'!#REF! -> #REF! | E14: 1 | F14: ='THỦY SẢN'!J11 -> 0 | G14: 1 | H14: ='VẬT NUÔI'!J34+'VẬT NUÔI'!J35 -> 0 | I14: =C14+E14+G14 -> #REF! | J14: =D14+F14+H14 -> #REF!
A15: 9 | B15: Buôn Bưng B | C15: ='CÂY TRỒNG'!#REF!-'CÂY TRỒNG'!#REF!+1 -> #REF! | D15: ='CÂY TRỒNG'!#REF! -> #REF! | E15: 0 | F15: 0 | G15: 2 | H15: ='VẬT NUÔI'!J36+'VẬT NUÔI'!J37 -> 0 | I15: =C15+E15+G15 -> #REF! | J15: =D15+F15+H15 -> #REF!
A16: 10 | B16: Buôn Gao | C16: ='CÂY TRỒNG'!#REF!-'CÂY TRỒNG'!#REF!+1 -> #REF! | D16: ='CÂY TRỒNG'!#REF! -> #REF! | E16: 1 | F16: ='THỦY SẢN'!J12 -> 0 | G16: 0 | H16: 0 | I16: =C16+E16+G16 -> #REF! | J16: =D16+F16+H16 -> #REF!
A17: 11 | B17: Buôn Học | C17: ='CÂY TRỒNG'!#REF!-'CÂY TRỒNG'!#REF!+1 -> #REF! | D17: ='CÂY TRỒNG'!#REF! -> #REF! | E17: 1 | F17: ='THỦY SẢN'!J13 -> 0 | G17: 0 | H17: 0 | I17: =C17+E17+G17 -> #REF! | J17: =D17+F17+H17 -> #REF!
B18: Tổng cộng | C18: =SUM(C7:C17) -> #REF! | D18: =SUM(D7:D17) -> #REF! | E18: =SUM(E7:E17) -> 9 | F18: =SUM(F7:F17) -> 0 | G18: =SUM(G7:G17) -> 26 | H18: =SUM(H7:H17) -> 0 | I18: =SUM(I7:I17) -> #REF! | J18: =SUM(J7:J17) -> #REF!

Sheet CÂY TRỒNG
A1: Phụ lục1
A2: DANH SÁCH TỔNG HỢP HỖ TRỢ ĐỐI VỚI CÂY TRỒNG BỊ THIỆT HẠI DO BÃO SỐ 13 VÀ MƯA LŨ NĂM 2025
A3: (ĐỢT 2)
A5: Stt | B5: Họ và tên | C5: Địa chỉ thường trú | D5: Số TK Agribank SHi | E5: Loại cây trồng, vật nuôi bị thiệt hại(*) | F5: Địa chỉ thửa đất | G5: Số lượng (ha,con) | H5: Mức độ thiệt hại (%) | I5: Mã | J5: Số tiền hỗ trợ (nghìn đồng)
A6: 1 | B6: Nguyễn Thành Lập | C6: Tân Bình | E6: Mắc ca 5 năm (thời kỳ kinh doanh), không có khả năng khôi phục) | F6: Có GCN: 5016,7m2 | G6: 0.5 | H6: 94.4 | I6: LN3 | J6: =IF(H6>70,VLOOKUP(I6,bg,4,0)*G6,IF(H6>=30,VLOOKUP(I6,bg,3,0)*G6,"-")) -> 15000
A7: 2 | B7: Bàn Tiến Văn | C7: Tân Bình | E7: mắc ca 7 năm (thời kỳ kinh doanh) thiệt hại nhưng cây không chết | F7: Có 2 GCN:3789,4+4441,7m2 | G7: 0.82 | H7: 50 | I7: LN2 | J7: =IF(H7>70,VLOOKUP(I7,bg,4,0)*G7,IF(H7>=30,VLOOKUP(I7,bg,3,0)*G7,"-")) -> 8200
A8: 4 | B8: Bàn Tiến Văn | C8: Tân Bình | E8: Cây tiêu | G8: 0.3 | H8: 10.4 | I8: LN2 | J8: =IF(H8>70,VLOOKUP(I8,bg,4,0)*G8,IF(H8>=30,VLOOKUP(I8,bg,3,0)*G8,"-")) -> -
A9: 3 | B9: Lương Văn Thượng | C9: Tân Bình | E9: sắn mì giai đoạn đang phát triển | F9: Có GCN: 25902,7m2 | G9: 3 | H9: 60 | I9: HN2 | J9: =IF(H9>70,VLOOKUP(I9,bg,4,0)*G9,IF(H9>=30,VLOOKUP(I9,bg,3,0)*G9,"-")) -> 15000
A10: 4 | B10: Dương Đức Hợi | C10: Tân Bình | E10: cà phê 1 năm( thời kỳ kiến thiết cơ bản) | F10: Có GCN: 10795,1m2 | G10: 1.3 | H10: 30 | I10: LN1 | J10: =IF(H10>70,VLOOKUP(I10,bg,4,0)*G10,IF(H10>=30,VLOOKUP(I10,bg,3,0)*G10,"-")) -> 7800
A11: 5 | B11: Nguyễn Công Lý | C11: Tân Bình | E11: Mắc ca (4 năm) (thời kỳ kiến thiết cơ bản) | F11: Có GCN: 4248,8m2 | G11: 0.4 | H11: 42 | I11: LN1 | J11: =IF(H11>70,VLOOKUP(I11,bg,4,0)*G11,IF(H11>=30,VLOOKUP(I11,bg,3,0)*G11,"-")) -> 2400
A12: 6 | B12: Hà Anh Hào | C12: Tân An | E12: bắp 2 tháng (cận thu hoạch) | F12: Có GCN: 7670,4m2 | G12: 0.76 | H12: 95 | I12: HN3 | J12: =IF(H12>70,VLOOKUP(I12,bg,4,0)*G12,IF(H12>=30,VLOOKUP(I12,bg,3,0)*G12,"-")) -> 11400
A13: 8 | B13: Doãn Ngọc Chinh | C13: Tân An | D13: 4606205019053 | E13: Cao su ở thời kỳ kinh doanh thiệt hại đến năng suất thu hoạch nhưng cây không chết | F13: Số thửa: 51; Tờ bản đồ số 22 | G13: 1.3 | H13: 35 | I13: LN2 | J13: =IF(H13>70,VLOOKUP(I13,bg,4,0)*G13,IF(H13>=30,VLOOKUP(I13,bg,3,0)*G13,"-")) -> 13000
B14: Doãn Ngọc Chinh | C14: Tân An | D14: 4606205019053 | E14: Cao su ở thời kỳ kinh doanh thiệt hại đến năng suất thu hoạch nhưng cây không chết | F14: Số thửa: 74; Tờ bản đồ số 26 | G14: 0.4 | H14: 34 | I14: LN2 | J14: =IF(H14>70,VLOOKUP(I14,bg,4,0)*G14,IF(H14>=30,VLOOKUP(I14,bg,3,0)*G14,"-")) -> 4000
B15: Doãn Ngọc Chinh | C15: Tân An | D15: 4606205019053 | E15: Cao su ở thời kỳ kinh doanh thiệt hại đến năng suất thu hoạch nhưng cây không chết | F15: Số thửa: 70; Tờ bản đồ số 26 | G15: 1.3 | H15: 35 | I15: LN2 | J15: =IF(H15>70,VLOOKUP(I15,bg,4,0)*G15,IF(H15>=30,VLOOKUP(I15,bg,3,0)*G15,"-")) -> 13000
A16: 9 | B16: Dương Văn Huỳnh | C16: Tân An | D16: 4606205175890 | E16: Mắc ca ở thời kỳ kinh doanh thiệt hại làm chết cây hoặc đánh giá là cây không còn khả năng phục hồi trở lại trạng thái bình thường | F16: Số thửa: 1; Tờ bản đồ số 62 | G16: 0.3 | H16: 77.77 | I16: LN3 | J16: =IF(H16>70,VLOOKUP(I16,bg,4,0)*G16,IF(H16>=30,VLOOKUP(I16,bg,3,0)*G16,"-")) -> 9000
A17: 10 | B17: Nguyễn Văn Kiên | C17: Tân An | D17: 4606205101030 | E17: Cao su ở thời kỳ kinh doanh thiệt hại đến năng suất thu hoạch nhưng cây không chết | F17: Số thửa: 37; Tờ bản đồ số 22 | G17: 2.5 | H17: 30.18 | I17: LN2 | J17: =IF(H17>70,VLOOKUP(I17,bg,4,0)*G17,IF(H17>=30,VLOOKUP(I17,bg,3,0)*G17,"-")) -> 25000
A18: 11 | B18: Dương Văn Túc | C18: Tân An | D18: 4606231001372 | E18: Cây sầu riêng ở thời kỳ kinh doanh thiệt hại làm chết cây hoặc đánh giá là cây không còn khả năng phục hồi trở lại trạng thái bình thường | F18: Số thửa: 20; Tờ bản đồ số 174; Số thửa: 16; Tờ bản đồ số 184 | G18: 0.2 | H18: 41.94 | I18: LN3 | J18: =IF(H18>70,VLOOKUP(I18,bg,4,0)*G18,IF(H18>=30,VLOOKUP(I18,bg,3,0)*G18,"-")) -> 3000
B19: Dương Văn Túc | C19: Tân An | D19: 4606231001373 | E19: Cây tiêu ở thời kỳ kinh doanh thiệt hại làm chết cây hoặc đánh giá là cây không còn khả năng phục hồi trở lại trạng thái bình thường | G19: 0.3 | H19: 41.67 | I19: LN3 | J19: =IF(H19>70,VLOOKUP(I19,bg,4,0)*G19,IF(H19>=30,VLOOKUP(I19,bg,3,0)*G19,"-")) -> 4500
B20: Dương Văn Túc | C20: Tân An | D20: 4606231001374 | E20: Mắc ca ở thời kỳ kinh doanh thiệt hại làm chết cây hoặc đánh giá là cây không còn khả năng phục hồi trở lại trạng thái bình thường | G20: 0.4 | H20: 58.33 | I20: LN3 | J20: =IF(H20>70,VLOOKUP(I20,bg,4,0)*G20,IF(H20>=30,VLOOKUP(I20,bg,3,0)*G20,"-")) -> 6000
A21: 12 | B21: Triệu Văn Cấp | C21: Tân An | E21: Cây sầu riêng ở thời kỳ kinh doanh thiệt hại làm chết cây hoặc đánh giá là cây không còn khả năng phục hồi trở lại trạng thái bình thường | F21: Số thửa: 206; Tờ bản đồ số 70 | G21: 0.3 | H21: 31.91 | I21: LN3 | J21: =IF(H21>70,VLOOKUP(I21,bg,4,0)*G21,IF(H21>=30,VLOOKUP(I21,bg,3,0)*G21,"-")) -> 4500
A22: 13 | B22: Phan Thị Mỹ Dung | C22: Tân An | D22: 4604205179136 | E22: Sầu riêng ở thời kỳ kinh doanh thiệt hại đến năng suất thu hoạch nhưng cây không chết | F22: Số thửa: 544; Tờ bản đồ số 62; Số thửa: 570; Tờ bản đồ số 62 | G22: 2 | H22: 32.05 | I22: LN2 | J22: =IF(H22>70,VLOOKUP(I22,bg,4,0)*G22,IF(H22>=30,VLOOKUP(I22,bg,3,0)*G22,"-")) -> 20000
A23: 14 | B23: Hoàng Văn Ba | C23: Tân An | E23: Cây sầu riêng ở thời kỳ kinh doanh thiệt hại làm chết cây hoặc đánh giá là cây không còn khả năng phục hồi trở lại trạng thái bình thường | F23: Số thửa: 22; Tờ bản đồ số 70 | G23: 0.1 | H23: 62.5 | I23: LN3 | J23: =IF(H23>70,VLOOKUP(I23,bg,4,0)*G23,IF(H23>=30,VLOOKUP(I23,bg,3,0)*G23,"-")) -> 1500
A24: 15 | B24: Phạm Văn Chính | C24: Tân An | E24: Sầu riêng ở thời kỳ kinh doanh thiệt hại đến năng suất thu hoạch nhưng cây không chết | F24: Số thửa: 533; Tờ bản đồ số 70 | G24: 0.516 | H24: 77.84 | I24: LN2 | J24: =IF(H24>70,VLOOKUP(I24,bg,4,0)*G24,IF(H24>=30,VLOOKUP(I24,bg,3,0)*G24,"-")) -> 10320
B25: Phạm Văn Chính | C25: Tân An | E25: Sầu riêng ở thời kỳ kinh doanh thiệt hại đến năng suất thu hoạch nhưng cây không chết | F25: Số thửa: 545; Tờ bản đồ số 70 | G25: 0.467 | H25: 78 | I25: LN2 | J25: =IF(H25>70,VLOOKUP(I25,bg,4,0)*G25,IF(H25>=30,VLOOKUP(I25,bg,3,0)*G25,"-")) -> 9340
B26: Phạm Văn Chính | C26: Tân An | E26: Sầu riêng ở thời kỳ kinh doanh thiệt hại đến năng suất thu hoạch nhưng cây không chết | F26: Số thửa: 2; Tờ bản đồ số 72 | G26: 4.241 | H26: 77.2 | I26: LN2 | J26: =IF(H26>70,VLOOKUP(I26,bg,4,0)*G26,IF(H26>=30,VLOOKUP(I26,bg,3,0)*G26,"-")) -> 84820
A27: 16 | B27: Phạm Thành Trung | C27: Tân An | E27: Cây tiêu ở thời kỳ kinh doanh thiệt hại làm chết cây hoặc đánh giá là cây không còn khả năng phục hồi trở lại trạng thái bình thường | F27: Tân An | G27: 0.4 | H27: 31.25 | I27: LN3 | J27: =IF(H27>70,VLOOKUP(I27,bg,4,0)*G27,IF(H27>=30,VLOOKUP(I27,bg,3,0)*G27,"-")) -> 6000
B28: Phạm Thành Trung | C28: Tân An | E28: Cây sầu riêng ở thời kỳ kinh doanh thiệt hại làm chết cây hoặc đánh giá là cây không còn khả năng phục hồi trở lại trạng thái bình thường | F28: Số thửa: 41; Tờ bản đồ số 70 | G28: 1 | H28: 41.67 | I28: LN3 | J28: =IF(H28>70,VLOOKUP(I28,bg,4,0)*G28,IF(H28>=30,VLOOKUP(I28,bg,3,0)*G28,"-")) -> 15000
A29: 17 | B29: Hồ Văn Tân | C29: Tân An | E29: Cây sầu riêng ở thời kỳ kinh doanh thiệt hại làm chết cây hoặc đánh giá là cây không còn khả năng phục hồi trở lại trạng thái bình thường | F29: Số thửa: 65; Tờ bản đồ số 183 | G29: 0.3 | H29: 42.55 | I29: LN3 | J29: =IF(H29>70,VLOOKUP(I29,bg,4,0)*G29,IF(H29>=30,VLOOKUP(I29,bg,3,0)*G29,"-")) -> 4500
B30: Hồ Văn Tân | C30: Tân An | E30: Cây tiêu ở thời kỳ kinh doanh thiệt hại làm chết cây hoặc đánh giá là cây không còn khả năng phục hồi trở lại trạng thái bình thường | G30: 0.3 | H30: 51.04 | I30: LN3 | J30: =IF(H30>70,VLOOKUP(I30,bg,4,0)*G30,IF(H30>=30,VLOOKUP(I30,bg,3,0)*G30,"-")) -> 4500
B31: Hồ Văn Tân | C31: Tân An | E31: Cây cà phê ở thời kỳ kiến thiết cơ bản | F31: Số thửa: 08; Tờ bản đồ số 184 | G31: 1 | H31: 45.11 | I31: LN1 | J31: =IF(H31>70,VLOOKUP(I31,bg,4,0)*G31,IF(H31>=30,VLOOKUP(I31,bg,3,0)*G31,"-")) -> 6000
A32: 18 | B32: Ngô Trí Long | C32: Tân An | E32: Chanh dây giai đoạn cận thu hoạch (trên 2/3 thời gian sinh trưởng) | F32: Số thửa: 22; Tờ bản đồ số 215 | G32: 1 | H32: 70 | I32: LN3 | J32: =IF(H32>70,VLOOKUP(I32,bg,4,0)*G32,IF(H32>=30,VLOOKUP(I32,bg,3,0)*G32,"-")) -> 15000
B33: Ngô Trí Long | C33: Tân An | E33: Cây sầu riêng ở thời kỳ kinh doanh thiệt hại làm chết cây hoặc đánh giá là cây không còn khả năng phục hồi trở lại trạng thái bình thường | G33: 2.5 | H33: 20 | I33: LN3 | J33: =IF(H33>70,VLOOKUP(I33,bg,4,0)*G33,IF(H33>=30,VLOOKUP(I33,bg,3,0)*G33,"-")) -> -
A34: 19 | B34: Chu Bá Kỳ | C34: Tân An | D34: 4606205021452 | E34: Cây sầu riêng ở thời kỳ kinh doanh thiệt hại làm chết cây hoặc đánh giá là cây không còn khả năng phục hồi trở lại trạng thái bình thường | F34: Số thửa: 15; Tờ bản đồ số 94 | G34: 0.3 | H34: 53.19 | I34: LN3 | J34: =IF(H34>70,VLOOKUP(I34,bg,4,0)*G34,IF(H34>=30,VLOOKUP(I34,bg,3,0)*G34,"-")) -> 4500
B35: Chu Bá Kỳ | C35: Tân An | D35: 4606205021453 | E35: Mắc ca ở thời kỳ kinh doanh thiệt hại làm chết cây hoặc đánh giá là cây không còn khả năng phục hồi trở lại trạng thái bình thường | G35: 1 | H35: 33.33 | I35: LN3 | J35: =IF(H35>70,VLOOKUP(I35,bg,4,0)*G35,IF(H35>=30,VLOOKUP(I35,bg,3,0)*G35,"-")) -> 15000
B36: Chu Bá Kỳ | C36: Tân An | D36: 4606205021454 | E36: Cây sắn mỳ đang trong giai đoạn phát triển | G36: 1 | H36: 70 | I36: HN2 | J36: =IF(H36>70,VLOOKUP(I36,bg,4,0)*G36,IF(H36>=30,VLOOKUP(I36,bg,3,0)*G36,"-")) -> 5000
A37: 20 | B37: Hồ Văn Huân | C37: Tân An | E37: Cây sầu riêng ở thời kỳ kinh doanh thiệt hại làm chết cây hoặc đánh giá là cây không còn khả năng phục hồi trở lại trạng thái bình thường | F37: Số thửa: 11; Tờ bản đồ số 184 | G37: 0.2 | H37: 37.5 | I37: LN3 | J37: =IF(H37>70,VLOOKUP(I37,bg,4,0)*G37,IF(H37>=30,VLOOKUP(I37,bg,3,0)*G37,"-")) -> 3000
B38: Hồ Văn Huân | C38: Tân An | E38: Cây tiêu ở thời kỳ kinh doanh thiệt hại làm chết cây hoặc đánh giá là cây không còn khả năng phục hồi trở lại trạng thái bình thường | G38: 0.3 | H38: 62.5 | I38: LN3 | J38: =IF(H38>70,VLOOKUP(I38,bg,4,0)*G38,IF(H38>=30,VLOOKUP(I38,bg,3,0)*G38,"-")) -> 4500
B39: Hồ Văn Huân | C39: Tân An | E39: Cây sắn mỳ đang trong giai đoạn phát triển | F39: Số thửa: 268; Tờ bản đồ số 41 | G39: 1.26 | H39: 60 | I39: HN2 | J39: =IF(H39>70,VLOOKUP(I39,bg,4,0)*G39,IF(H39>=30,VLOOKUP(I39,bg,3,0)*G39,"-")) -> 6300
B40: Hồ Văn Huân | C40: Tân An | E40: Cây cà phê ở thời kỳ kinh doanh thiệt hại làm chết cây hoặc đánh giá là cây không còn khả năng phục hồi trở lại trạng thái bình thường | F40: Số thửa: 11; Tờ bản đồ số 79 | G40: 1 | H40: 45.11 | I40: LN3 | J40: =IF(H40>70,VLOOKUP(I40,bg,4,0)*G40,IF(H40>=30,VLOOKUP(I40,bg,3,0)*G40,"-")) -> 15000
A41: 21 | B41: Nguyễn Đình Phú | C41: Tân An | D41: 4606205043869 | E41: Cây tiêu ở thời kỳ kinh doanh thiệt hại làm chết cây hoặc đánh giá là cây không còn khả năng phục hồi trở lại trạng thái bình thường | F41: Số thửa: 255; Tờ bản đồ số 87 | G41: 0.1 | H41: 100 | I41: LN3 | J41: =IF(H41>70,VLOOKUP(I41,bg,4,0)*G41,IF(H41>=30,VLOOKUP(I41,bg,3,0)*G41,"-")) -> 3000
B42: Nguyễn Đình Phú | C42: Tân An | D42: 4606205043870 | E42: Cây cà phê ở thời kỳ kinh doanh thiệt hại làm chết cây hoặc đánh giá là cây không còn khả năng phục hồi trở lại trạng thái bình thường | G42: 0.4 | H42: 75 | I42: LN3 | J42: =IF(H42>70,VLOOKUP(I42,bg,4,0)*G42,IF(H42>=30,VLOOKUP(I42,bg,3,0)*G42,"-")) -> 12000
A43: 22 | B43: Lưu Văn Trường | C43: Tân An | D43: 4606215045435 | E43: Cây sầu riêng ở thời kỳ kinh doanh thiệt hại làm chết cây hoặc đánh giá là cây không còn khả năng phục hồi trở lại trạng thái bình thường | F43: Số thửa: 140; Tờ bản đồ số 86 | G43: 0.81 | H43: 36.43 | I43: LN3 | J43: =IF(H43>70,VLOOKUP(I43,bg,4,0)*G43,IF(H43>=30,VLOOKUP(I43,bg,3,0)*G43,"-")) -> 12150
B44: Lưu Văn Trường | C44: Tân An | D44: 4606215045436 | E44: Cây cà phê ở thời kỳ kinh doanh thiệt hại làm chết cây hoặc đánh giá là cây không còn khả năng phục hồi trở lại trạng thái bình thường | F44: Số thửa: 136; Tờ bản đồ số 86 | G44: 0.33 | H44: 50.13 | I44: LN3 | J44: =IF(H44>70,VLOOKUP(I44,bg,4,0)*G44,IF(H44>=30,VLOOKUP(I44,bg,3,0)*G44,"-")) -> 4950
B45: Lưu Văn Trường | C45: Tân An | D45: 4606215045437 | E45: Mắc ca ở thời kỳ kinh doanh thiệt hại làm chết cây hoặc đánh giá là cây không còn khả năng phục hồi trở lại trạng thái bình thường | G45: 0.4 | H45: 60 | I45: LN3 | J45: =IF(H45>70,VLOOKUP(I45,bg,4,0)*G45,IF(H45>=30,VLOOKUP(I45,bg,3,0)*G45,"-")) -> 6000
A46: 23 | B46: Hồ Văn Thuân | C46: Tân An | D46: 4606205015920 | E46: Sầu riêng ở thời kỳ kiến thiết cơ bản | F46: Số thửa: 1; Tờ bản đồ số 184; Số thửa: 18; Tờ bản đồ số 184; Số thửa: 15; Tờ bản đồ số 184; Số thửa: 39; Tờ bản đồ số 184; Số thửa: 651; Tờ bản đồ số 70 | G46: 1 | H46: 38.46 | I46: LN1 | J46: =IF(H46>70,VLOOKUP(I46,bg,4,0)*G46,IF(H46>=30,VLOOKUP(I46,bg,3,0)*G46,"-")) -> 6000
B47: Hồ Văn Thuân | C47: Tân An | D47: 4606205015921 | E47: Cây sầu riêng ở thời kỳ kinh doanh thiệt hại làm chết cây hoặc đánh giá là cây không còn khả năng phục hồi trở lại trạng thái bình thường | G47: 0.5 | H47: 51.28 | I47: LN3 | J47: =IF(H47>70,VLOOKUP(I47,bg,4,0)*G47,IF(H47>=30,VLOOKUP(I47,bg,3,0)*G47,"-")) -> 7500
B48: Hồ Văn Thuân | C48: Tân An | D48: 4606205015922 | E48: Cây tiêu ở thời kỳ kinh doanh thiệt hại làm chết cây hoặc đánh giá là cây không còn khả năng phục hồi trở lại trạng thái bình thường | G48: 0.4 | H48: 39.06 | I48: LN3 | J48: =IF(H48>70,VLOOKUP(I48,bg,4,0)*G48,IF(H48>=30,VLOOKUP(I48,bg,3,0)*G48,"-")) -> 6000
B49: Hồ Văn Thuân | C49: Tân An | D49: 4606205015923 | E49: Mắc ca ở thời kỳ kinh doanh thiệt hại làm chết cây hoặc đánh giá là cây không còn khả năng phục hồi trở lại trạng thái bình thường | G49: 0.5 | H49: 50 | I49: LN3 | J49: =IF(H49>70,VLOOKUP(I49,bg,4,0)*G49,IF(H49>=30,VLOOKUP(I49,bg,3,0)*G49,"-")) -> 7500
A50: 24 | B50: Hoàng Văn May | C50: Tân An | D50: 4606205075140 | E50: Cây sầu riêng ở thời kỳ kinh doanh thiệt hại làm chết cây hoặc đánh giá là cây không còn khả năng phục hồi trở lại trạng thái bình thường | F50: Số thửa: 408; Tờ bản đồ số 70 | G50: 0.564 | H50: 43.75 | I50: LN3 | J50: =IF(H50>70,VLOOKUP(I50,bg,4,0)*G50,IF(H50>=30,VLOOKUP(I50,bg,3,0)*G50,"-")) -> 8460
A51: 25 | B51: Nguyễn Văn Vui | C51: Tân An | D51: 4606205071257 | E51: Cây sầu riêng ở thời kỳ kinh doanh thiệt hại làm chết cây hoặc đánh giá là cây không còn khả năng phục hồi trở lại trạng thái bình thường | F51: Số thửa: 3; Tờ bản đồ số 16 | G51: 1.6 | H51: 44 | I51: LN3 | J51: =IF(H51>70,VLOOKUP(I51,bg,4,0)*G51,IF(H51>=30,VLOOKUP(I51,bg,3,0)*G51,"-")) -> 24000
B52: Nguyễn Văn Vui | C52: Tân An | D52: 4606205071258 | E52: Cây tiêu ở thời kỳ kinh doanh thiệt hại làm chết cây hoặc đánh giá là cây không còn khả năng phục hồi trở lại trạng thái bình thường | F52: Số thửa: 208; Tờ bản đồ số 70 | G52: 0.3 | H52: 31.25 | I52: LN3 | J52: =IF(H52>70,VLOOKUP(I52,bg,4,0)*G52,IF(H52>=30,VLOOKUP(I52,bg,3,0)*G52,"-")) -> 4500
A53: 26 | B53: Lành Thị Thiện | C53: Tân An | D53: 4606205130783 | E53: Cây sầu riêng ở thời kỳ kinh doanh thiệt hại làm chết cây hoặc đánh giá là cây không còn khả năng phục hồi trở lại trạng thái bình thường | F53: Số thửa: 658; Tờ bản đồ số 62 | G53: 0.4 | H53: 31.75 | I53: LN3 | J53: =IF(H53>70,VLOOKUP(I53,bg,4,0)*G53,IF(H53>=30,VLOOKUP(I53,bg,3,0)*G53,"-")) -> 6000
A54: 27 | B54: Cao Đắc Hảng | C54: Tân An | D54: 4606205001347 | E54: Cây Chanh dây ở thời kỳ kinh doanh thiệt hại nhưng cây không chết | F54: Số thửa: 06; Tờ bản đồ số 191; Số thửa: 13; Tờ bản đồ số 191; Số thửa: 09; Tờ bản đồ số 191; Số thửa: 19; Tờ bản đồ số 183; Số thửa: 18; Tờ bản đồ số 183; Số thửa: 73; Tờ bản đồ số 183 | G54: 8 | H54: 80 | I54: LN2 | J54: =IF(H54>70,VLOOKUP(I54,bg,4,0)*G54,IF(H54>=30,VLOOKUP(I54,bg,3,0)*G54,"-")) -> 160000
A55: 28 | B55: Lộc Văn Be | C55: Tân An | E55: Cây sầu riêng ở thời kỳ kinh doanh thiệt hại làm chết cây hoặc đánh giá là cây không còn khả năng phục hồi trở lại trạng thái bình thường | F55: Số thửa: 90; Tờ bản đồ số 62 | G55: 0.1 | H55: 43.75 | I55: LN3 | J55: =IF(H55>70,VLOOKUP(I55,bg,4,0)*G55,IF(H55>=30,VLOOKUP(I55,bg,3,0)*G55,"-")) -> 1500
B56: Lộc Văn Be | C56: Tân An | E56: Mắc ca ở thời kỳ kinh doanh thiệt hại làm chết cây hoặc đánh giá là cây không còn khả năng phục hồi trở lại trạng thái bình thường | G56: 0.2 | H56: 66.67 | I56: LN3 | J56: =IF(H56>70,VLOOKUP(I56,bg,4,0)*G56,IF(H56>=30,VLOOKUP(I56,bg,3,0)*G56,"-")) -> 3000
A57: 29 | B57: Huỳnh Đức Khánh | C57: Tân An | E57: Cây tiêu ở thời kỳ kinh doanh thiệt hại làm chết cây hoặc đánh giá là cây không còn khả năng phục hồi trở lại trạng thái bình thường | F57: Số thửa: 630; Tờ bản đồ số 70 | G57: 0.2 | H57: 31.25 | I57: LN3 | J57: =IF(H57>70,VLOOKUP(I57,bg,4,0)*G57,IF(H57>=30,VLOOKUP(I57,bg,3,0)*G57,"-")) -> 3000
B58: Huỳnh Đức Khánh | C58: Tân An | E58: Cây sầu riêng ở thời kỳ kinh doanh thiệt hại làm chết cây hoặc đánh giá là cây không còn khả năng phục hồi trở lại trạng thái bình thường | G58: 0.274 | H58: 53.191489 | I58: LN3 | J58: =IF(H58>70,VLOOKUP(I58,bg,4,0)*G58,IF(H58>=30,VLOOKUP(I58,bg,3,0)*G58,"-")) -> 4110
A59: 30 | B59: Lâm Văn Chiến | C59: Tân Yên | E59: Cây tiêu ở thời kỳ kinh doanh thiệt hại làm cây không có khả năng phục hồi trở lại trạng thái ban đầu | F59: Tân Sơn | G59: 0.3 | H59: 4 | I59: LN2 | J59: =IF(H59>70,VLOOKUP(I59,bg,4,0)*G59,IF(H59>=30,VLOOKUP(I59,bg,3,0)*G59,"-")) -> -
B60: Lâm Văn Chiến | C60: Tân Yên | E60: Cây Mắc ca ở thời kỳ kinh doanh thiệt hại làm cây chết | F60: Tân Sơn | G60: 1.5 | H60: 62.2 | I60: LN3 | J60: =IF(H60>70,VLOOKUP(I60,bg,4,0)*G60,IF(H60>=30,VLOOKUP(I60,bg,3,0)*G60,"-")) -> 22500
A61: 31 | B61: Đinh Ngọc Hoàn | C61: Tân Yên | E61: Cây cao su ở thời kỳ kinh doanh thiệt hại làm cây không có khả năng phục hồi trở lại trạng thái ban đầu | F61: Tân Sơn | G61: 1 | H61: 3 | I61: LN3 | J61: =IF(H61>70,VLOOKUP(I61,bg,4,0)*G61,IF(H61>=30,VLOOKUP(I61,bg,3,0)*G61,"-")) -> -
B62: Đinh Ngọc Hoàn | C62: Tân Yên | E62: Cây sầu riêng ở thời kỳ kinh doanh thiệt hại làm cây không chết | F62: Tân Sơn | G62: 2 | H62: 4 | I62: LN2 | J62: =IF(H62>70,VLOOKUP(I62,bg,4,0)*G62,IF(H62>=30,VLOOKUP(I62,bg,3,0)*G62,"-")) -> -
A63: 32 | B63: Dương Công Phong | C63: Tân Yên | E63: Cây Mắc ca ở thời kỳ kinh doanh thiệt hại làm cây không có khả năng phục hồi trở lại trạng thái ban đầu | F63: Tân Yên | G63: 1 | H63: 8.6 | I63: LN3 | J63: =IF(H63>70,VLOOKUP(I63,bg,4,0)*G63,IF(H63>=30,VLOOKUP(I63,bg,3,0)*G63,"-")) -> -
B64: Dương Công Phong | C64: Tân Yên | E64: Cây Tiêu ở thời kỳ kinh doanh thiệt hại làm cây không có khả năng phục hồi trở lại trạng thái ban đầu | F64: Tân Yên | G64: 0.3 | H64: 2 | I64: LN3 | J64: =IF(H64>70,VLOOKUP(I64,bg,4,0)*G64,IF(H64>=30,VLOOKUP(I64,bg,3,0)*G64,"-")) -> -
A65: 33 | B65: Lê Văn Tám | C65: Tân Yên | E65: Cây Sầu Riên ở thời kỳ kinh doanh thiệt hại làm cây không có khả năng phục hồi trở lại trạng thái ban đầu | F65: Tân Sơn | G65: 0.5 | H65: 12.5 | I65: LN3 | J65: =IF(H65>70,VLOOKUP(I65,bg,4,0)*G65,IF(H65>=30,VLOOKUP(I65,bg,3,0)*G65,"-")) -> -
A66: 34 | B66: Nguyễn Lư | C66: Tân Yên | E66: Sầu Riêng kiến thiết cơ bản | F66: Tân Yên | G66: 1 | H66: 2.5 | I66: LN1 | J66: =IF(H66>70,VLOOKUP(I66,bg,4,0)*G66,IF(H66>=30,VLOOKUP(I66,bg,3,0)*G66,"-")) -> -
A67: 35 | B67: Trần Văn Tuấn | C67: Tân Yên | E67: Cây sầu riêng ở thời kỳ kinh doanh thiệt hại làm cây không có khả năng phục hồi trở lại trạng thái ban đầu | F67: Tân Yên | G67: 1.3 | H67: 6.5 | I67: LN3 | J67: =IF(H67>70,VLOOKUP(I67,bg,4,0)*G67,IF(H67>=30,VLOOKUP(I67,bg,3,0)*G67,"-")) -> -
B68: Trần Văn Tuấn | C68: Tân Yên | E68: Cây Mắc ca ở thời kỳ kinh doanh thiệt hại làm cây không có khả năng phục hồi trở lại trạng thái ban đầu | F68: Tân Yên | G68: 0.5 | H68: 22.7 | I68: LN3 | J68: =IF(H68>70,VLOOKUP(I68,bg,4,0)*G68,IF(H68>=30,VLOOKUP(I68,bg,3,0)*G68,"-")) -> -
A69: 36 | B69: Huỳnh Tấn Phát | C69: Tân Yên | E69: Cây sầu riêng ở thời kỳ kinh doanh thiệt hại làm cây không có khả năng phục hồi trở lại trạng thái ban đầu | F69: Tân An | G69: 2 | H69: 20.8 | I69: LN3 | J69: =IF(H69>70,VLOOKUP(I69,bg,4,0)*G69,IF(H69>=30,VLOOKUP(I69,bg,3,0)*G69,"-")) -> -
A70: 37 | B70: Cao Cư | C70: Tân Yên | E70: Cây tiêu ở thời kỳ kinh doanh thiệt hại làm cây không có khả năng phục hồi trở lại trạng thái ban đầu | F70: Buôn Zô | G70: 1 | H70: 6.25 | I70: LN3 | J70: =IF(H70>70,VLOOKUP(I70,bg,4,0)*G70,IF(H70>=30,VLOOKUP(I70,bg,3,0)*G70,"-")) -> -
A71: 38 | B71: Lô Thị Thào | C71: Tân Yên | E71: Cây sầu riêng ở thời kỳ kinh doanh thiệt hại làm cây không có khả năng phục hồi trở lại trạng thái ban đầu | F71: Tân Lập | G71: 2 | H71: 3.3 | I71: LN3 | J71: =IF(H71>70,VLOOKUP(I71,bg,4,0)*G71,IF(H71>=30,VLOOKUP(I71,bg,3,0)*G71,"-")) -> -
A72: 39 | B72: Võ Đình Huy | C72: Tân Yên | E72: Cây sầu riêng kiến thiết cơ bản | F72: Tân Yên | G72: 3 | H72: 8.5 | I72: LN1 | J72: =IF(H72>70,VLOOKUP(I72,bg,4,0)*G72,IF(H72>=30,VLOOKUP(I72,bg,3,0)*G72,"-")) -> -
A73: 40 | B73: Nguyễn Văn Phượng | C73: Tân Yên | E73: Cây cao su ở thời kỳ kinh doanh thiệt hại làm cây không có khả năng phục hồi trở lại trạng thái ban đầu | F73: Tân Yên | G73: 2 | H73: 13.6 | I73: LN3 | J73: =IF(H73>70,VLOOKUP(I73,bg,4,0)*G73,IF(H73>=30,VLOOKUP(I73,bg,3,0)*G73,"-")) -> -
B74: Nguyễn Văn Phượng | C74: Tân Yên | E74: Cây cao su ở thời kỳ kinh doanh thiệt hại làm cây không có khả năng phục hồi trở lại trạng thái ban đầu | F74: Tân An | G74: 4 | H74: 16.7 | I74: LN3 | J74: =IF(H74>70,VLOOKUP(I74,bg,4,0)*G74,IF(H74>=30,VLOOKUP(I74,bg,3,0)*G74,"-")) -> -
A75: 41 | B75: Nguyễn Quang Nhật | C75: Tân Yên | D75: 4606215016500 | E75: Cầy mì cận thu hoạch | F75: Tân An | G75: 1 | H75: 70 | I75: HN3 | J75: =IF(H75>70,VLOOKUP(I75,bg,4,0)*G75,IF(H75>=30,VLOOKUP(I75,bg,3,0)*G75,"-")) -> 7500
B76: Nguyễn Quang Nhật | C76: Tân Yên | E76: Cây cao su kiến thiết cơ bản | F76: Tân An | G76: 1 | H76: 6.4 | I76: LN1 | J76: =IF(H76>70,VLOOKUP(I76,bg,4,0)*G76,IF(H76>=30,VLOOKUP(I76,bg,3,0)*G76,"-")) -> -
A77: 42 | B77: Nông Văn Hùng | C77: Tân Yên | E77: Cây Bắp giai đoạn đang phát triển | F77: Tân Yên | G77: 1 | H77: 100 | I77: HN2 | J77: =IF(H77>70,VLOOKUP(I77,bg,4,0)*G77,IF(H77>=30,VLOOKUP(I77,bg,3,0)*G77,"-")) -> 10000
A78: 43 | B78: Nguyễn Văn Mai | C78: Tân Yên | E78: Cây Mắc ca ở thời kỳ kinh doanh thiệt hại làm cây chết | F78: Tân Yên | G78: 0.5 | H78: 40 | I78: LN3 | J78: =IF(H78>70,VLOOKUP(I78,bg,4,0)*G78,IF(H78>=30,VLOOKUP(I78,bg,3,0)*G78,"-")) -> 7500
A79: 44 | B79: Bế Ngọc Dịp | C79: Tân Yên | E79: Cây Mắc ca ở thời kỳ kinh doanh thiệt hại làm cây chết | G79: 1 | H79: 30 | I79: LN3 | J79: =IF(H79>70,VLOOKUP(I79,bg,4,0)*G79,IF(H79>=30,VLOOKUP(I79,bg,3,0)*G79,"-")) -> 15000
B80: Bế Ngọc Dịp | C80: Tân Yên | E80: Cây cà phê ở thời kỳ kinh doanh thiệt hại làm cây không có khả năng phục hồi trở lại trạng thái ban đầu | G80: 1 | H80: 9.4 | I80: LN3 | J80: =IF(H80>70,VLOOKUP(I80,bg,4,0)*G80,IF(H80>=30,VLOOKUP(I80,bg,3,0)*G80,"-")) -> -
A81: 45 | B81: Nguyễn Khánh Hòa | C81: Tân Yên | E81: Cây cao su ở thời kỳ kinh doanh thiệt hại làm cây không có khả năng phục hồi trở lại trạng thái ban đầu | F81: Tân Sơn | G81: 1.9 | H81: 1 | I81: LN3 | J81: =IF(H81>70,VLOOKUP(I81,bg,4,0)*G81,IF(H81>=30,VLOOKUP(I81,bg,3,0)*G81,"-")) -> -
A82: 46 | B82: Nguyễn Thanh Khôi | C82: Tân Yên | E82: Cây cao su ở thời kỳ kinh doanh thiệt hại làm cây không có khả năng phục hồi trở lại trạng thái ban đầu | F82: Tân Bình | G82: 5 | H82: 28.95 | I82: LN3 | J82: =IF(H82>70,VLOOKUP(I82,bg,4,0)*G82,IF(H82>=30,VLOOKUP(I82,bg,3,0)*G82,"-")) -> -
B83: Nguyễn Thanh Khôi | C83: Tân Yên | E83: Cây cà phê ở kiến thiết cơ bản | F83: Tân Bình | G83: 1.5 | H83: 11.57 | I83: LN1 | J83: =IF(H83>70,VLOOKUP(I83,bg,4,0)*G83,IF(H83>=30,VLOOKUP(I83,bg,3,0)*G83,"-")) -> -
A84: 47 | B84: Lô Văn Khìn | C84: Tân Yên | E84: Cây cao su ở thời kỳ kinh doanh thiệt hại làm cây không có khả năng phục hồi trở lại trạng thái ban đầu | F84: Tân Lập | G84: 1.2 | H84: 6.7 | I84: LN3 | J84: =IF(H84>70,VLOOKUP(I84,bg,4,0)*G84,IF(H84>=30,VLOOKUP(I84,bg,3,0)*G84,"-")) -> -
B85: Lô Văn Khìn | C85: Tân Yên | E85: Cây sầu riêng kiến thiết cơ bản | F85: Tân Sơn | G85: 0.7 | H85: 12 | I85: LN1 | J85: =IF(H85>70,VLOOKUP(I85,bg,4,0)*G85,IF(H85>=30,VLOOKUP(I85,bg,3,0)*G85,"-")) -> -
A86: 48 | B86: Đàm Văn Lực | C86: Tân Yên | E86: Cây cà phê ở thời kỳ kinh doanh thiệt hại làm cây không có khả năng phục hồi trở lại trạng thái ban đầu | F86: Tân Lập | G86: 1 | H86: 33 | I86: LN3 | J86: =IF(H86>70,VLOOKUP(I86,bg,4,0)*G86,IF(H86>=30,VLOOKUP(I86,bg,3,0)*G86,"-")) -> 15000
A87: 49 | B87: Lành Văn Điện | C87: Tân Yên | E87: Cây cao su ở thời kỳ kiến thiết cơ bản | F87: Tân Yên | G87: 1 | H87: 9.57 | I87: LN1 | J87: =IF(H87>70,VLOOKUP(I87,bg,4,0)*G87,IF(H87>=30,VLOOKUP(I87,bg,3,0)*G87,"-")) -> -
B88: Lành Văn Điện | C88: Tân Yên | E88: Cây cà phê ở thời kỳ kiến thiết cơ bản | F88: Tân Yên | G88: 0.5 | H88: 5.5 | I88: LN1 | J88: =IF(H88>70,VLOOKUP(I88,bg,4,0)*G88,IF(H88>=30,VLOOKUP(I88,bg,3,0)*G88,"-")) -> -
A89: 50 | B89: Sầm Văn Phúc | C89: Tân Yên | E89: Cây tiêu ở thời kỳ kinh doanh thiệt hại làm cây không có khả năng phục hồi trở lại trạng thái ban đầu | F89: Tân Sơn | G89: 0.4 | H89: 1.9 | I89: LN3 | J89: =IF(H89>70,VLOOKUP(I89,bg,4,0)*G89,IF(H89>=30,VLOOKUP(I89,bg,3,0)*G89,"-")) -> -
B90: Sầm Văn Phúc | C90: Tân Yên | E90: Cây cà phê ở thời kỳ kinh doanh thiệt hại làm cây không có khả năng phịc hồi trạng thái ban đầu | F90: Tân Sơn | G90: 0.7 | H90: 30 | I90: LN3 | J90: =IF(H90>70,VLOOKUP(I90,bg,4,0)*G90,IF(H90>=30,VLOOKUP(I90,bg,3,0)*G90,"-")) -> 10500
A91: 51 | B91: Nguyễn Đức Ngừ | C91: Tân Yên | E91: Cây sầu riêng ở thời kỳ kinh doanh thiệt hại làm cây không có khả năng phục hồi trở lại trạng thái ban đầu | F91: Tân An | G91: 1.5 | H91: 13.04 | I91: LN3 | J91: =IF(H91>70,VLOOKUP(I91,bg,4,0)*G91,IF(H91>=30,VLOOKUP(I91,bg,3,0)*G91,"-")) -> -
B92: Nguyễn Đức Ngừ | C92: Tân Yên | D92: 4606205009180 | E92: Câyổi ăn trái ở thời kỳ kinh doanh thiệt hại làm cây không có khả năng phục hồi trở lại trạng thái ban đầu | F92: Tân An | G92: 1.5 | H92: 30 | I92: LN3 | J92: =IF(H92>70,VLOOKUP(I92,bg,4,0)*G92,IF(H92>=30,VLOOKUP(I92,bg,3,0)*G92,"-")) -> 22500
B93: Nguyễn Đức Ngừ | C93: Tân Yên | E93: Cây ăn trái ở thời kỳ kinh doanh thiệt hại làm cây không có khả năng phục hồi trở lại trạng thái ban đầu | F93: Tân An | G93: 0.5 | H93: 20 | I93: LN3 | J93: =IF(H93>70,VLOOKUP(I93,bg,4,0)*G93,IF(H93>=30,VLOOKUP(I93,bg,3,0)*G93,"-")) -> -
A94: 52 | B94: Hoàng Văn Thông | C94: Tân Yên | D94: 4606205016814 | E94: Cá nuôi bán thâm canh trong ao nước ngọt | F94: Tân Yên | G94: 0.1 | H94: 100 | I94: TS3 | J94: =IF(H94>70,VLOOKUP(I94,bg,4,0)*G94,IF(H94>=30,VLOOKUP(I94,bg,3,0)*G94,"-")) -> 1500
A95: 53 | B95: Đinh Văn Chỉnh | C95: Tân Yên | E95: Cây cao su ở thời kỳ kinh doanh thiệt hại làm cây không có khả năng phục hồi trở lại trạng thái ban đầu | F95: Tân Sơn | G95: 2.7 | H95: 14 | I95: LN3 | J95: =IF(H95>70,VLOOKUP(I95,bg,4,0)*G95,IF(H95>=30,VLOOKUP(I95,bg,3,0)*G95,"-")) -> -
A96: 54 | B96: Nguyễn Thanh Tươi | C96: Tân Yên | E96: Bắp cận thu hoạch | F96: Tân Yên | G96: 0.4 | H96: 100 | I96: HN3 | J96: =IF(H96>70,VLOOKUP(I96,bg,4,0)*G96,IF(H96>=30,VLOOKUP(I96,bg,3,0)*G96,"-")) -> 6000
A97: 55 | B97: Phùng Thị Đào | C97: Tân Yên | E97: Cây Điều ở thời kỳ kinh doanh thiệt hại làm cây không có khả năng phục hồi trở lại trạng thái ban đầu | F97: Tân Yên | G97: 0.6 | H97: 22.5 | I97: LN3 | J97: =IF(H97>70,VLOOKUP(I97,bg,4,0)*G97,IF(H97>=30,VLOOKUP(I97,bg,3,0)*G97,"-")) -> -
A98: 56 | B98: Bế Ngọc Luân | C98: Tân Yên | D98: 4600215061266 | E98: Cây mắc ca ở thời kỳ kinh doanh thiệt hại làm cây không có khả năng phục hồi trở lại trạng thái ban đầu | F98: Tân Lập | G98: 0.1 | H98: 75 | I98: LN3 | J98: =IF(H98>70,VLOOKUP(I98,bg,4,0)*G98,IF(H98>=30,VLOOKUP(I98,bg,3,0)*G98,"-")) -> 3000
A99: 57 | B99: Linh Thị Hảo | C99: Tân Yên | E99: Bắp cận thu hoạch | G99: 0.2 | H99: 90 | I99: HN3 | J99: =IF(H99>70,VLOOKUP(I99,bg,4,0)*G99,IF(H99>=30,VLOOKUP(I99,bg,3,0)*G99,"-")) -> 3000
A100: 58 | B100: Cao Má | C100: Tân Yên | E100: Cây Sầu Riêng ở thời kỳ kinh doanh thiệt hại làm cây không có khả năng phục hồi trở lại trạng thái ban đầu | F100: Tân Sơn | G100: 1 | H100: 20 | I100: LN3 | J100: =IF(H100>70,VLOOKUP(I100,bg,4,0)*G100,IF(H100>=30,VLOOKUP(I100,bg,3,0)*G100,"-")) -> -
A101: 59 | B101: Hoàng Anh Tuấn | C101: Tân Yên | E101: Cây Sầu Riêng ở thời kỳ kinh doanh thiệt hại làm cây không có khả năng phục hồi trở lại trạng thái ban đầu | F101: Tân Yên | G101: 3 | H101: 6.7 | I101: LN3 | J101: =IF(H101>70,VLOOKUP(I101,bg,4,0)*G101,IF(H101>=30,VLOOKUP(I101,bg,3,0)*G101,"-")) -> -
...

Sheet THỦY SẢN
A1: Phụ lục 2
A2: DANH SÁCH TỔNG HỢP HỖ TRỢ ĐỐI VỚI THỦY SẢN BỊ THIỆT HẠI DO BÃO SỐ 13 VÀ MƯA LŨ NĂM 2025
A3: (ĐỢT 1)
A5: Stt | B5: Họ và tên | C5: Địa chỉ thường trú | D5: Số TK Agribank SHi | E5: Loại cây trồng, vật nuôi bị thiệt hại(*) | F5: Địa chỉ thửa đất | G5: Số lượng (ha,con) | H5: Mức độ thiệt hại (%) | I5: Mã | J5: Số tiền hỗ trợ (nghìn đồng)
A14: Tổng hợp | G14: =SUM(G6:G13) -> 0 | H14: =SUM(H6:H13) -> 0 | J14: =SUM(J6:J13) -> 0

Sheet VẬT NUÔI
A1: Phụ lục 3
A2: DANH SÁCH TỔNG HỢP HỖ TRỢ ĐỐI VỚI VẬT NUÔI BỊ THIỆT HẠI DO BÃO SỐ 13 VÀ MƯA LỚN NĂM 2025
A3: (ĐỢT 1)
A5: Stt | B5: Họ và tên | C5: Địa chỉ thường trú | D5: Số TK Agribank SHi | E5: Loại cây trồng, vật nuôi bị thiệt hại(*) | F5: Địa chỉ nuôi | G5: Số lượng (ha,con) | H5: Mức độ thiệt hại (%) | I5: Mã | J5: Sô tiền hỗ trợ (nghìn đồng)
A38: Tổng cộng | G38: =SUM(G6:G37) -> 0 | J38: =SUM(J6:J37) -> 0
