Workbook
Name bg: [1]Bảng!$B$3:$E$22

Sheet foxz

Sheet ĐỊNH MỨC HT
A3: Cây trồng/vật nuôi | B3: Mã | C3: Giai đoạn | D3: >=30 | E3: >70
A4: Lúa | B4: LU1 | C4: Sau gieo trồng từ 01 đến 10 ngày (kđ/ha) | D4: 3000 | E4: 6000
A5: Lúa | B5: LU2 | C5: Sau gieo trồng từ trên 10 ngày đến 45 ngày(kđ/ha) | D5: 4000 | E5: 8000
A6: Lúa | B6: LU3 | C6: Sau gieo trồng trên 45 ngày (kđ/ha) | D6: 5000 | E6: 10000
A7: Cây hàng năm | B7: HN1 | C7: Giai đoạn cây con (gieo trồng đến 1/3 thời gian sinh trưởng) (kđ/ha) | D7: 3000 | E7: 6000
A8: Cây hàng năm | B8: HN2 | C8: Giai đoạn cây đang phát triển (trên 1/3 đến 2/3 thời gian sinh trưởng) (kđ/ha) | D8: 5000 | E8: 10000
A9: Cây hàng năm | B9: HN3 | C9: Giai đoạn cận thu hoạch (trên 2/3 thời gian sinh trưởng) (kđ/ha) | D9: 7500 | E9: 15000
A10: Cây lâu năm | B10: LN1 | C10: Vườn cây ở thời kỳ kiến thiết cơ bản (kđ/ha) | D10: 6000 | E10: 12000
A11: Cây lâu năm | B11: LN2 | C11: Vườn cây ở thời kỳ kinh doanh thiệt hại đến năng suất thu hoạch nhưng cây không chết (kđ/ha) | D11: 10000 | E11: 20000
A12: Cây lâu năm | B12: LN3 | C12: Vườn cây ở thời kỳ kinh doanh thiệt hại làm cây chết hoặc được đánh giá là cây không còn khả năng phục hồi trở lại trạng thái bình thường (kđ/ha) | D12: 15000 | E12: 30000
A13: Thủy sản | B13: TS1 | C13: Nuôi trồng thuỷ sản bán thâm canh, thâm canh trong ao (đầm/hầm): hỗ trợ 60.000.000 đồng/ha diện tích nuôi bị thiệt hại (kđ/ha) | D13: 60000 | E13: 60000
A14: Thủy sản | B14: TS2 | C14: Nuôi trồng thuỷ sản trong bể, lồng, bè (tri/100m3) (đ/m3) | D14: 300 | E14: 300
A15: Thủy sản | B15: TS3 | C15: Nuôi trồng thuỷ sản theo hình thức khác (kđ/ha) | D15: 15000 | E15: 15000
... A22: Trâu, bò | B22: TB2 | C22: Trên 06 tháng tuổi (kđ/con) | D22: 5050 | E22: 5050

Sheet TH CHUNG

Sheet TH
A1: TỔNG HỢP KẾT QUẢ HỖ TRỢ THIỆT HẠI DO BÃO SỐ 13 VÀ MƯA LŨ NĂM 2025 XÃ EA LY
A2: ĐỢT 1
A3: (Kèm theo quyết định số /QĐ-UBND, ngày /6/2026 của UBND xã Ea Ly)
A5: Stt | B5: Tên thôn, buôn | C5: Cây trồng | E5: Thủy sản | G5: Vật nuôi | I5: Tổng cộng | K5: Ghi chú
C6: Số hộ | D6: Số tiền | E6: Số hộ | F6: Số tiền | G6: Số hộ | H6: Số tiền | I6: Số hộ | J6: Số tiền
A7: 1 | B7: Thôn Tân Lập | C7: ='CÂY TRỒNG'!#REF! -> #REF! | D7: ='CÂY TRỒNG'!#REF! -> #REF! | E7: 0 | F7: 0 | G7: 0 | H7: 0 | I7: =C7+E7+G7 -> #REF! | J7: =D7+F7+H7 -> #REF!
A8: 2 | B8: Tân Bình | C8: ='CÂY TRỒNG'!A40-'CÂY TRỒNG'!A6+1 -> 0 | D8: ='CÂY TRỒNG'!K6 -> 0 | E8: 0 | F8: 0 | G8: 0 | H8: 0 | I8: =C8+E8+G8 -> 0 | J8: =D8+F8+H8 -> 0
A9: 3 | B9: Tân Sơn | C9: ='CÂY TRỒNG'!#REF!-'CÂY TRỒNG'!A41+1 -> #REF! | D9: ='CÂY TRỒNG'!K41 -> 0 | E9: 5 | F9: =SUM('THỦY SẢN'!J6:J9) -> 0 | G9: 0 | H9: 0 | I9: =C9+E9+G9 -> #REF! | J9: =D9+F9+H9 -> 0
A10: 4 | B10: Thôn 2/4 | C10: ='CÂY TRỒNG'!#REF!-'CÂY TRỒNG'!#REF!+1 -> #REF! | D10: ='CÂY TRỒNG'!#REF! -> #REF! | E10: 1 | F10: ='THỦY SẢN'!J10 -> 0 | G10: 0 | H10: 0 | I10: =C10+E10+G10 -> #REF! | J10: =D10+F10+H10 -> #REF!
A11: 5 | B11: Buôn Zô | C11: ='CÂY TRỒNG'!#REF!-'CÂY TRỒNG'!#REF!+1 -> #REF! | D11: ='CÂY TRỒNG'!#REF! -> #REF! | E11: 0 | F11: 0 | G11: 1 | H11: ='VẬT NUÔI'!J6 -> 0 | I11: =C11+E11+G11 -> #REF! | J11: =D11+F11+H11 -> #REF!
A12: 6 | B12: Thôn Tân An | C12: ='CÂY TRỒNG'!#REF!-'CÂY TRỒNG'!#REF!+1 -> #REF! | D12: ='CÂY TRỒNG'!#REF! -> #REF! | E12: 0 | F12: 0 | G12: 2 | H12: ='VẬT NUÔI'!J7+'VẬT NUÔI'!J8 -> 0 | I12: =C12+E12+G12 -> #REF! | J12: =D12+F12+H12 -> #REF!
A13: 7 | B13: Buôn Bai | C13: ='CÂY TRỒNG'!#REF!-'CÂY TRỒNG'!#REF!+1 -> #REF! | D13: ='CÂY TRỒNG'!#REF! -> #REF! | E13: 0 | F13: 0 | G13: =23-4+1 -> 20 | H13: =SUM('VẬT NUÔI'!J9:J33) -> 0 | I13: =C13+E13+G13 -> #REF! | J13: =D13+F13+H13 -> #REF!
A14: 8 | B14: Buôn Bưng A | C14: ='CÂY TRỒNG'!#REF!-'CÂY TRỒNG'!#REF!+1 -> #REF! | D14: ='CÂY TRỒNG'!#REF! -> #REF! | E14: 1 | F14: ='THỦY SẢN'!J11 -> 0 | G14: 1 | H14: ='VẬT NUÔI'!J34+'VẬT NUÔI'!J35 -> 0 | I14: =C14+E14+G14 -> #REF! | J14: =D14+F14+H14 -> #REF!
A15: 9 | B15: Buôn Bưng B | C15: ='CÂY TRỒNG'!#REF!-'CÂY TRỒNG'!#REF!+1 -> #REF! | D15: ='CÂY TRỒNG'!#REF! -> #REF! | E15: 0 | F15: 0 | G15: 2 | H15: ='VẬT NUÔI'!J36+'VẬT NUÔI'!J37 -> 0 | I15: =C15+E15+G15 -> #REF! | J15: =D15+F15+H15 -> #REF!
A16: 10 | B16: Buôn Gao | C16: ='CÂY TRỒNG'!#REF!-'CÂY TRỒNG'!#REF!+1 -> #REF! | D16: ='CÂY TRỒNG'!#REF! -> #REF! | E16: 1 | F16: ='THỦY SẢN'!J12 -> 0 | G16: 0 | H16: 0 | I16: =C16+E16+G16 -> #REF! | J16: =D16+F16+H16 -> #REF!
A17: 11 | B17: Buôn Học | C17: ='CÂY TRỒNG'!#REF!-'CÂY TRỒNG'!#REF!+1 -> #REF! | D17: ='CÂY TRỒNG'!#REF! -> #REF! | E17: 1 | F17: ='THỦY SẢN'!J13 -> 0 | G17: 0 | H17: 0 | I17: =C17+E17+G17 -> #REF! | J17: =D17+F17+H17 -> #REF!
B18: Tổng cộng | C18: =SUM(C7:C17) -> #REF! | D18: =SUM(D7:D17) -> #REF! | E18: =SUM(E7:E17) -> 9 | F18: =SUM(F7:F17) -> 0 | G18: =SUM(G7:G17) -> 26 | H18: =SUM(H7:H17) -> 0 | I18: =SUM(I7:I17) -> #REF! | J18: =SUM(J7:J17) -> #REF!

Sheet CÂY TRỒNG
A1: Phụ lục1
A2: DANH SÁCH TỔNG HỢP HỖ TRỢ ĐỐI VỚI CÂY TRỒNG BỊ THIỆT HẠI DO BÃO SỐ 13 VÀ MƯA LŨ NĂM 2025
A3: (ĐỢT 2)
A5: Stt | B5: Họ và tên | C5: Địa chỉ thường trú | D5: Số TK Agribank SHi | E5: Loại cây trồng, vật nuôi bị thiệt hại(*) | F5: Địa chỉ thửa đất | G5: Số lượng (ha,con) | H5: Mức độ thiệt hại (%) | I5: Mã | J5: Số tiền hỗ trợ (nghìn đồng)
A6: 1 | B6: Nguyễn Thành Lập | C6: Tân Bình | E6: Mắc ca 5 năm (thời kỳ kinh doanh), không có khả năng khôi phục) | F6: Có GCN: 5016,7m2 | G6: 0.5 | H6: 94.4 | I6: LN3 | J6: =IF(H6>70,VLOOKUP(I6,bg,4,0)*G6,IF(H6>=30,VLOOKUP(I6,bg,3,0)*G6,"-")) -> 15000
A7: 2 | B7: Bàn Tiến Văn | C7: Tân Bình | E7: mắc ca 7 năm (thời kỳ kinh doanh) thiệt hại nhưng cây không chết | F7: Có 2 GCN:3789,4+4441,7m2 | G7: 0.82 | H7: 50 | I7: LN2 | J7: =IF(H7>70,VLOOKUP(I7,bg,4,0)*G7,IF(H7>=30,VLOOKUP(I7,bg,3,0)*G7,"-")) -> 8200
A8: 4 | B8: Bàn Tiến Văn | C8: Tân Bình | E8: Cây tiêu | G8: 0.3 | H8: 10.4 | I8: LN2 | J8: =IF(H8>70,VLOOKUP(I8,bg,4,0)*G8,IF(H8>=30,VLOOKUP(I8,bg,3,0)*G8,"-")) -> -
A9: 3 | B9: Lương Văn Thượng | C9: Tân Bình | E9: sắn mì giai đoạn đang phát triển | F9: Có GCN: 25902,7m2 | G9: 3 | H9: 60 | I9: HN2 | J9: =IF(H9>70,VLOOKUP(I9,bg,4,0)*G9,IF(H9>=30,VLOOKUP(I9,bg,3,0)*G9,"-")) -> 15000
A10: 4 | B10: Dương Đức Hợi | C10: Tân Bình | E10: cà phê 1 năm( thời kỳ kiến thiết cơ bản) | F10: Có GCN: 10795,1m2 | G10: 1.3 | H10: 30 | I10: LN1 | J10: =IF(H10>70,VLOOKUP(I10,bg,4,0)*G10,IF(H10>=30,VLOOKUP(I10,bg,3,0)*G10,"-")) -> 7800
A11: 5 | B11: Nguyễn Công Lý | C11: Tân Bình | E11: Mắc ca (4 năm) (thời kỳ kiến thiết cơ bản) | F11: Có GCN: 4248,8m2 | G11: 0.4 | H11: 42 | I11: LN1 | J11: =IF(H11>70,VLOOKUP(I11,bg,4,0)*G11,IF(H11>=30,VLOOKUP(I11,bg,3,0)*G11,"-")) -> 2400
A12: 6 | B12: Hà Anh Hào | C12: Tân An | E12: bắp 2 tháng (cận thu hoạch) | F12: Có GCN: 7670,4m2 | G12: 0.76 | H12: 95 | I12: HN3 | J12: =IF(H12>70,VLOOKUP(I12,bg,4,0)*G12,IF(H12>=30,VLOOKUP(I12,bg,3,0)*G12,"-")) -> 11400
A13: 8 | B13: Doãn Ngọc Chinh | C13: Tân An | D13: 4606205019053 | E13: Cao su ở thời kỳ kinh doanh thiệt hại đến năng suất thu hoạch nhưng cây không chết | F13: Số thửa: 51; Tờ bản đồ số 22 | G13: 1.3 | H13: 35 | I13: LN2 | J13: =IF(H13>70,VLOOKUP(I13,bg,4,0)*G13,IF(H13>=30,VLOOKUP(I13,bg,3,0)*G13,"-")) -> 13000
B14: Doãn Ngọc Chinh | C14: Tân An | D14: 4606205019053 | E14: Cao su ở thời kỳ kinh doanh thiệt hại đến năng suất thu hoạch nhưng cây không chết | F14: Số thửa: 74; Tờ bản đồ số 26 | G14: 0.4 | H14: 34 | I14: LN2 | J14: =IF(H14>70,VLOOKUP(I14,bg,4,0)*G14,IF(H14>=30,VLOOKUP(I14,bg,3,0)*G14,"-")) -> 4000
B15: Doãn Ngọc Chinh | C15: Tân An | D15: 4606205019053 | E15: Cao su ở thời kỳ kinh doanh thiệt hại đến năng suất thu hoạch nhưng cây không chết | F15: Số thửa: 70; Tờ bản đồ số 26 | G15: 1.3 | H15: 35 | I15: LN2 | J15: =IF(H15>70,VLOOKUP(I15,bg,4,0)*G15,IF(H15>=30,VLOOKUP(I15,bg,3,0)*G15,"-")) -> 13000
A16: 9 | B16: Dương Văn Huỳnh | C16: Tân An | D16: 4606205175890 | E16: Mắc ca ở thời kỳ kinh doanh thiệt hại làm chết cây hoặc đánh giá là cây không còn khả năng phục hồi trở lại trạng thái bình thường | F16: Số thửa: 1; Tờ bản đồ số 62 | G16: 0.3 | H16: 77.77 | I16: LN3 | J16: =IF(H16>70,VLOOKUP(I16,bg,4,0)*G16,IF(H16>=30,VLOOKUP(I16,bg,3,0)*G16,"-")) -> 9000
A17: 10 | B17: Nguyễn Văn Kiên | C17: Tân An | D17: 4606205101030 | E17: Cao su ở thời kỳ kinh doanh thiệt hại đến năng suất thu hoạch nhưng cây không chết | F17: Số thửa: 37; Tờ bản đồ số 22 | G17: 2.5 | H17: 30.18 | I17: LN2 | J17: =IF(H17>70,VLOOKUP(I17,bg,4,0)*G17,IF(H17>=30,VLOOKUP(I17,bg,3,0)*G17,"-")) -> 25000
A18: 11 | B18: Dương Văn Túc | C18: Tân An | D18: 4606231001372 | E18: Cây sầu riêng ở thời kỳ kinh doanh thiệt hại làm chết cây hoặc đánh giá là cây không còn khả năng phục hồi trở lại trạng thái bình thường | F18: Số thửa: 20; Tờ bản đồ số 174; Số thửa: 16; Tờ bản đồ số 184 | G18: 0.2 | H18: 41.94 | I18: LN3 | J18: =IF(H18>70,VLOOKUP(I18,bg,4,0)*G18,IF(H18>=30,VLOOKUP(I18,bg,3,0)*G18,"-")) -> 3000
B19: Dương Văn Túc | C19: Tân An | D19: 4606231001373 | E19: Cây tiêu ở thời kỳ kinh doanh thiệt hại làm chết cây hoặc đánh giá là cây không còn khả năng phục hồi trở lại trạng thái bình thường | G19: 0.3 | H19: 41.67 | I19: LN3 | J19: =IF(H19>70,VLOOKUP(I19,bg,4,0)*G19,IF(H19>=30,VLOOKUP(I19,bg,3,0)*G19,"-")) -> 4500
B20: Dương Văn Túc | C20: Tân An | D20: 4606231001374 | E20: Mắc ca ở thời kỳ kinh doanh thiệt hại làm chết cây hoặc đánh giá là cây không còn khả năng phục hồi trở lại trạng thái bình thường | G20: 0.4 | H20: 58.33 | I20: LN3 | J20: =IF(H20>70,VLOOKUP(I20,bg,4,0)*G20,IF(H20>=30,VLOOKUP(I20,bg,3,0)*G20,"-")) -> 6000
A21: 12 | B21: Triệu Văn Cấp | C21: Tân An | E21: Cây sầu riêng ở thời kỳ kinh doanh thiệt hại làm chết cây hoặc đánh giá là cây không còn khả năng phục hồi trở lại trạng thái bình thường | F21: Số thửa: 206; Tờ bản đồ số 70 | G21: 0.3 | H21: 31.91 | I21: LN3 | J21: =IF(H21>70,VLOOKUP(I21,bg,4,0)*G21,IF(H21>=30,VLOOKUP(I21,bg,3,0)*G21,"-")) -> 4500
A22: 13 | B22: Phan Thị Mỹ Dung | C22: Tân An | D22: 4604205179136 | E22: Sầu riêng ở thời kỳ kinh doanh thiệt hại đến năng suất thu hoạch nhưng cây không chết | F22: Số thửa: 544; Tờ bản đồ số 62; Số thửa: 570; Tờ bản đồ số 62 | G22: 2 | H22: 32.05 | I22: LN2 | J22: =IF(H22>70,VLOOKUP(I22,bg,4,0)*G22,IF(H22>=30,VLOOKUP(I22,bg,3,0)*G22,"-")) -> 20000
A23: 14 | B23: Hoàng Văn Ba | C23: Tân An | E23: Cây sầu riêng ở thời kỳ kinh doanh thiệt hại làm chết cây hoặc đánh giá là cây không còn khả năng phục hồi trở lại trạng thái bình thường | F23: Số thửa: 22; Tờ bản đồ số 70 | G23: 0.1 | H23: 62.5 | I23: LN3 | J23: =IF(H23>70,VLOOKUP(I23,bg,4,0)*G23,IF(H23>=30,VLOOKUP(I23,bg,3,0)*G23,"-")) -> 1500
A24: 15 | B24: Phạm Văn Chính | C24: Tân An | E24: Sầu riêng ở thời kỳ kinh doanh thiệt hại đến năng suất thu hoạch nhưng cây không chết | F24: Số thửa: 533; Tờ bản đồ số 70 | G24: 0.516 | H24: 77.84 | I24: LN2 | J24: =IF(H24>70,VLOOKUP(I24,bg,4,0)*G24,IF(H24>=30,VLOOKUP(I24,bg,3,0)*G24,"-")) -> 10320
B25: Phạm Văn Chính | C25: Tân An | E25: Sầu riêng ở thời kỳ kinh doanh thiệt hại đến năng suất thu hoạch nhưng cây không chết | F25: Số thửa: 545; Tờ bản đồ số 70 | G25: 0.467 | H25: 78 | I25: LN2 | J25: =IF(H25>70,VLOOKUP(I25,bg,4,0)*G25,IF(H25>=30,VLOOKUP(I25,bg,3,0)*G25,"-")) -> 9340
B26: Phạm Văn Chính | C26: Tân An | E26: Sầu riêng ở thời kỳ kinh doanh thiệt hại đến năng suất thu hoạch nhưng cây không chết | F26: Số thửa: 2; Tờ bản đồ số 72 | G26: 4.241 | H26: 77.2 | I26: LN2 | J26: =IF(H26>70,VLOOKUP(I26,bg,4,0)*G26,IF(H26>=30,VLOOKUP(I26,bg,3,0)*G26,"-")) -> 84820
A27: 16 | B27: Phạm Thành Trung | C27: Tân An | E27: Cây tiêu ở thời kỳ kinh doanh thiệt hại làm chết cây hoặc đánh giá là cây không còn khả năng phục hồi trở lại trạng thái bình thường | F27: Tân An | G27: 0.4 | H27: 31.25 | I27: LN3 | J27: =IF(H27>70,VLOOKUP(I27,bg,4,0)*G27,IF(H27>=30,VLOOKUP(I27,bg,3,0)*G27,"-")) -> 6000
B28: Phạm Thành Trung | C28: Tân An | E28: Cây sầu riêng ở thời kỳ kinh doanh thiệt hại làm chết cây hoặc đánh giá là cây không còn khả năng phục hồi trở lại trạng thái bình thường | F28: Số thửa: 41; Tờ bản đồ số 70 | G28: 1 | H28: 41.67 | I28: LN3 | J28: =IF(H28>70,VLOOKUP(I28,bg,4,0)*G28,IF(H28>=30,VLOOKUP(I28,bg,3,0)*G28,"-")) -> 15000
A29: 17 | B29: Hồ Văn Tân | C29: Tân An | E29: Cây sầu riêng ở thời kỳ kinh doanh thiệt hại làm chết cây hoặc đánh giá là cây không còn khả năng phục hồi trở lại trạng thái bình thường | F29: Số thửa: 65; Tờ bản đồ số 183 | G29: 0.3 | H29: 42.55 | I29: LN3 | J29: =IF(H29>70,VLOOKUP(I29,bg,4,0)*G29,IF(H29>=30,VLOOKUP(I29,bg,3,0)*G29,"-")) -> 4500
B30: Hồ Văn Tân | C30: Tân An | E30: Cây tiêu ở thời kỳ kinh doanh thiệt hại làm chết cây hoặc đánh giá là cây không còn khả năng phục hồi trở lại trạng thái bình thường | G30: 0.3 | H30: 51.04 | I30: LN3 | J30: =IF(H30>70,VLOOKUP(I30,bg,4,0)*G30,IF(H30>=30,VLOOKUP(I30,bg,3,0)*G30,"-")) -> 4500
B31: Hồ Văn Tân | C31: Tân An | E31: Cây cà phê ở thời kỳ kiến thiết cơ bản | F31: Số thửa: 08; Tờ bản đồ số 184 | G31: 1 | H31: 45.11 | I31: LN1 | J31: =IF(H31>70,VLOOKUP(I31,bg,4,0)*G31,IF(H31>=30,VLOOKUP(I31,bg,3,0)*G31,"-")) -> 6000
A32: 18 | B32: Ngô Trí Long | C32: Tân An | E32: Chanh dây giai đoạn cận thu hoạch (trên 2/3 thời gian sinh trưởng) | F32: Số thửa: 22; Tờ bản đồ số 215 | G32: 1 | H32: 70 | I32: LN3 | J32: =IF(H32>70,VLOOKUP(I32,bg,4,0)*G32,IF(H32>=30,VLOOKUP(I32,bg,3,0)*G32,"-")) -> 15000
B33: Ngô Trí Long | C33: Tân An | E33: Cây sầu riêng ở thời kỳ kinh doanh thiệt hại làm chết cây hoặc đánh giá là cây không còn khả năng phục hồi trở lại trạng thái bình thường | G33: 2.5 | H33: 20 | I33: LN3 | J33: =IF(H33>70,VLOOKUP(I33,bg,4,0)*G33,IF(H33>=30,VLOOKUP(I33,bg,3,0)*G33,"-")) -> -
A34: 19 | B34: Chu Bá Kỳ | C34: Tân An | D34: 4606205021452 | E34: Cây sầu riêng ở thời kỳ kinh doanh thiệt hại làm chết cây hoặc đánh giá là cây không còn khả năng phục hồi trở lại trạng thái bình thường | F34: Số thửa: 15; Tờ bản đồ số 94 | G34: 0.3 | H34: 53.19 | I34: LN3 | J34: =IF(H34>70,VLOOKUP(I34,bg,4,0)*G34,IF(H34>=30,VLOOKUP(I34,bg,3,0)*G34,"-")) -> 4500
B35: Chu Bá Kỳ | C35: Tân An | D35: 4606205021453 | E35: Mắc ca ở thời kỳ kinh doanh thiệt hại làm chết cây hoặc đánh giá là cây không còn khả năng phục hồi trở lại trạng thái bình thường | G35: 1 | H35: 33.33 | I35: LN3 | J35: =IF(H35>70,VLOOKUP(I35,bg,4,0)*G35,IF(H35>=30,VLOOKUP(I35,bg,3,0)*G35,"-")) -> 15000
B36: Chu Bá Kỳ | C36: Tân An | D36: 4606205021454 | E36: Cây sắn mỳ đang trong giai đoạn phát triển | G36: 1 | H36: 70 | I36: HN2 | J36: =IF(H36>70,VLOOKUP(I36,bg,4,0)*G36,IF(H36>=30,VLOOKUP(I36,bg,3,0)*G36,"-")) -> 5000
A37: 20 | B37: Hồ Văn Huân | C37: Tân An | E37: Cây sầu riêng ở thời kỳ kinh doanh thiệt hại làm chết cây hoặc đánh giá là cây không còn khả năng phục hồi trở lại trạng thái bình thường | F37: Số thửa: 11; Tờ bản đồ số 184 | G37: 0.2 | H37: 37.5 | I37: LN3 | J37: =IF(H37>70,VLOOKUP(I37,bg,4,0)*G37,IF(H37>=30,VLOOKUP(I37,bg,3,0)*G37,"-")) -> 3000
B38: Hồ Văn Huân | C38: Tân An | E38: Cây tiêu ở thời kỳ kinh doanh thiệt hại làm chết cây hoặc đánh giá là cây không còn khả năng phục hồi trở lại trạng thái bình thường | G38: 0.3 | H38: 62.5 | I38: LN3 | J38: =IF(H38>70,VLOOKUP(I38,bg,4,0)*G38,IF(H38>=30,VLOOKUP(I38,bg,3,0)*G38,"-")) -> 4500
B39: Hồ Văn Huân | C39: Tân An | E39: Cây sắn mỳ đang trong giai đoạn phát triển | F39: Số thửa: 268; Tờ bản đồ số 41 | G39: 1.26 | H39: 60 | I39: HN2 | J39: =IF(H39>70,VLOOKUP(I39,bg,4,0)*G39,IF(H39>=30,VLOOKUP(I39,bg,3,0)*G39,"-")) -> 6300
B40: Hồ Văn Huân | C40: Tân An | E40: Cây cà phê ở thời kỳ kinh doanh thiệt hại làm chết cây hoặc đánh giá là cây không còn khả năng phục hồi trở lại trạng thái bình thường | F40: Số thửa: 11; Tờ bản đồ số 79 | G40: 1 | H40: 45.11 | I40: LN3 | J40: =IF(H40>70,VLOOKUP(I40,bg,4,0)*G40,IF(H40>=30,VLOOKUP(I40,bg,3,0)*G40,"-")) -> 15000
A41: 21 | B41: Nguyễn Đình Phú | C41: Tân An | D41: 4606205043869 | E41: Cây tiêu ở thời kỳ kinh doanh thiệt hại làm chết cây hoặc đánh giá là cây không còn khả năng phục hồi trở lại trạng thái bình thường | F41: Số thửa: 255; Tờ bản đồ số 87 | G41: 0.1 | H41: 100 | I41: LN3 | J41: =IF(H41>70,VLOOKUP(I41,bg,4,0)*G41,IF(H41>=30,VLOOKUP(I41,bg,3,0)*G41,"-")) -> 3000
...

Sheet THỦY SẢN
A1: Phụ lục 2
A2: DANH SÁCH TỔNG HỢP HỖ TRỢ ĐỐI VỚI THỦY SẢN BỊ THIỆT HẠI DO BÃO SỐ 13 VÀ MƯA LŨ NĂM 2025
A3: (ĐỢT 1)
A5: Stt | B5: Họ và tên | C5: Địa chỉ thường trú | D5: Số TK Agribank SHi | E5: Loại cây trồng, vật nuôi bị thiệt hại(*) | F5: Địa chỉ thửa đất | G5: Số lượng (ha,con) | H5: Mức độ thiệt hại (%) | I5: Mã | J5: Số tiền hỗ trợ (nghìn đồng)
A14: Tổng hợp | G14: =SUM(G6:G13) -> 0 | H14: =SUM(H6:H13) -> 0 | J14: =SUM(J6:J13) -> 0

Sheet VẬT NUÔI
A1: Phụ lục 3
A2: DANH SÁCH TỔNG HỢP HỖ TRỢ ĐỐI VỚI VẬT NUÔI BỊ THIỆT HẠI DO BÃO SỐ 13 VÀ MƯA LỚN NĂM 2025
A3: (ĐỢT 1)
A5: Stt | B5: Họ và tên | C5: Địa chỉ thường trú | D5: Số TK Agribank SHi | E5: Loại cây trồng, vật nuôi bị thiệt hại(*) | F5: Địa chỉ nuôi | G5: Số lượng (ha,con) | H5: Mức độ thiệt hại (%) | I5: Mã | J5: Sô tiền hỗ trợ (nghìn đồng)
A38: Tổng cộng | G38: =SUM(G6:G37) -> 0 | J38: =SUM(J6:J37) -> 0
